BEGIN:VCALENDAR
VERSION:2.0
PRODID:-//Old Town Kemptville BIA - ECPv6.15.20//NONSGML v1.0//EN
CALSCALE:GREGORIAN
METHOD:PUBLISH
X-ORIGINAL-URL:https://downtownkemptville.com
X-WR-CALDESC:Events for Old Town Kemptville BIA
REFRESH-INTERVAL;VALUE=DURATION:PT1H
X-Robots-Tag:noindex
X-PUBLISHED-TTL:PT1H
BEGIN:VTIMEZONE
TZID:America/Toronto
BEGIN:DAYLIGHT
TZOFFSETFROM:-0500
TZOFFSETTO:-0400
TZNAME:EDT
DTSTART:20240310T070000
END:DAYLIGHT
BEGIN:STANDARD
TZOFFSETFROM:-0400
TZOFFSETTO:-0500
TZNAME:EST
DTSTART:20241103T060000
END:STANDARD
BEGIN:DAYLIGHT
TZOFFSETFROM:-0500
TZOFFSETTO:-0400
TZNAME:EDT
DTSTART:20250309T070000
END:DAYLIGHT
BEGIN:STANDARD
TZOFFSETFROM:-0400
TZOFFSETTO:-0500
TZNAME:EST
DTSTART:20251102T060000
END:STANDARD
BEGIN:DAYLIGHT
TZOFFSETFROM:-0500
TZOFFSETTO:-0400
TZNAME:EDT
DTSTART:20260308T070000
END:DAYLIGHT
BEGIN:STANDARD
TZOFFSETFROM:-0400
TZOFFSETTO:-0500
TZNAME:EST
DTSTART:20261101T060000
END:STANDARD
END:VTIMEZONE
BEGIN:VEVENT
DTSTART;TZID=America/Toronto:20251114T180000
DTEND;TZID=America/Toronto:20251114T190000
DTSTAMP:20260422T073411
CREATED:20251110T155314Z
LAST-MODIFIED:20251110T155314Z
UID:1486-1763143200-1763146800@downtownkemptville.com
SUMMARY:Downtown Kemptville Christmas Tree Lighting
DESCRIPTION: Downtown Kemptville Tree Lighting Ceremony\n\nCome kick off the holiday season with us in Downtown Kemptville! Join the community for a Tree Lighting Ceremony at Rotary Park — featuring goodies for the family\, a festive Christmas sing-along\, and the dazzling moment the lights come on to officially welcome the season. \n\n Rotary Park\, Downtown Kemptville Friday\, November 14th 6:00 PM – 7:00 PM\n\nLet’s gather\, sing\, and celebrate the magic of community and Christmas together. \n\n A huge thank you to JAM Productions for providing the speakers and music!\n Bring your holiday spirit\, your warm mittens\, and your loudest “fa-la-la” — it’s going to be a magical night in Downtown Kemptville! 
URL:https://downtownkemptville.com/event/downtown-kemptville-christmas-tree-lighting/
LOCATION:Rotary Park\, Clothier Street & Prescott Street\, Kemptville\, ON\, K0G1J0\, Canada
CATEGORIES:BIA Events
ORGANIZER;CN="Downtown Kemptville BIA":MAILTO:bia@downtownkemptville.ca
END:VEVENT
BEGIN:VEVENT
DTSTART;TZID=America/Toronto:20251115T163000
DTEND;TZID=America/Toronto:20251115T180000
DTSTAMP:20260422T073411
CREATED:20251110T161216Z
LAST-MODIFIED:20251110T161216Z
UID:1502-1763224200-1763229600@downtownkemptville.com
SUMMARY:2025 Kemptville Rotary Santa Claus Parade
DESCRIPTION:SAVE THE DATE for the 2025 Kemptville Rotary Santa Claus Parade! It’s never too early to register your float – Yule be glad you did! This cherished community tradition is brought to you by the Rotary Club of Kemptville in partnership with the Municipality of North Grenville. We can’t wait to see our streets filled with lights\, music\, and holiday spirit. THEME:  “Unite to Light up Christmas” – inspired by the 2025-26 Rotary International theme “Unite for Good.” We invite you to bring this theme to life by lighting up your float and helping us share the joy of the season. Together\, we’ll not only brighten the night but also support those in need through the parade food drive and toy collection.
URL:https://downtownkemptville.com/event/2025-kemptville-rotary-santa-claus-parade/
LOCATION:Downtown Kemptville\, Prescott St\, Kemptville\, Ontario\, K0G1J0\, Canada
CATEGORIES:Community Event
END:VEVENT
BEGIN:VEVENT
DTSTART;TZID=America/Toronto:20251129T100000
DTEND;TZID=America/Toronto:20251129T130000
DTSTAMP:20260422T073411
CREATED:20251110T160116Z
LAST-MODIFIED:20251121T171649Z
UID:1495-1764410400-1764421200@downtownkemptville.com
SUMMARY:Mama's Cheeky Co. Boutique Presents: Old Town Christmas
DESCRIPTION:The most magical morning of the year is almost here — and you’re invited to celebrate the spirit of the season in the heart of our community! \nSaturday\, November 29th\n10 AM – 1 PM \nCome experience the wonder of Old Town Christmas presented by Mama’s Cheeky Co. Boutique\, where the streets of Downtown Kemptville transform into a winter wonderland filled with joy\, laughter\, and holiday cheer. \n Here’s what’s in store:\n Breakfast with Santa at the Legion — the perfect way to start your morning!\n Horse-Drawn Carriage Rides through the downtown streets. Brought to you by Nina Tachuk Royal Lepage Team Realty\n Storytime with the Mayor — a community favourite!\n Surprise Guests including Elsa and Spiderman – Brought to you by To Be Continued Consignment Shop \nFestive photo ops\, and plenty of Christmas magic around every corner \nBundle up\, bring the family\, and soak in the sights\, sounds\, and smiles that make this event so special. Snap some photos\, grab a hot chocolate\, and enjoy a morning that’s merry\, bright\, and filled with local love.  \n Mark your calendars\, spread the word\, and join us for Old Town Christmas — where community meets holiday magic!
URL:https://downtownkemptville.com/event/mamas-cheeky-co-boutique-presents-old-town-christmas/
LOCATION:Downtown Kemptville\, Prescott St\, Kemptville\, Ontario\, K0G1J0\, Canada
CATEGORIES:BIA Events
ORGANIZER;CN="Downtown Kemptville BIA":MAILTO:bia@downtownkemptville.ca
END:VEVENT
END:VCALENDAR