BEGIN:VCALENDAR
VERSION:2.0
PRODID:-//Old Town Kemptville BIA - ECPv6.15.20//NONSGML v1.0//EN
CALSCALE:GREGORIAN
METHOD:PUBLISH
X-WR-CALNAME:Old Town Kemptville BIA
X-ORIGINAL-URL:https://downtownkemptville.com
X-WR-CALDESC:Events for Old Town Kemptville BIA
REFRESH-INTERVAL;VALUE=DURATION:PT1H
X-Robots-Tag:noindex
X-PUBLISHED-TTL:PT1H
BEGIN:VTIMEZONE
TZID:America/Toronto
BEGIN:DAYLIGHT
TZOFFSETFROM:-0500
TZOFFSETTO:-0400
TZNAME:EDT
DTSTART:20240310T070000
END:DAYLIGHT
BEGIN:STANDARD
TZOFFSETFROM:-0400
TZOFFSETTO:-0500
TZNAME:EST
DTSTART:20241103T060000
END:STANDARD
BEGIN:DAYLIGHT
TZOFFSETFROM:-0500
TZOFFSETTO:-0400
TZNAME:EDT
DTSTART:20250309T070000
END:DAYLIGHT
BEGIN:STANDARD
TZOFFSETFROM:-0400
TZOFFSETTO:-0500
TZNAME:EST
DTSTART:20251102T060000
END:STANDARD
BEGIN:DAYLIGHT
TZOFFSETFROM:-0500
TZOFFSETTO:-0400
TZNAME:EDT
DTSTART:20260308T070000
END:DAYLIGHT
BEGIN:STANDARD
TZOFFSETFROM:-0400
TZOFFSETTO:-0500
TZNAME:EST
DTSTART:20261101T060000
END:STANDARD
END:VTIMEZONE
BEGIN:VEVENT
DTSTART;TZID=America/Toronto:20251007T173000
DTEND;TZID=America/Toronto:20251007T203000
DTSTAMP:20260422T093042
CREATED:20250917T195220Z
LAST-MODIFIED:20250917T195220Z
UID:1427-1759858200-1759869000@downtownkemptville.com
SUMMARY:An Evening of high end Wine & Food
DESCRIPTION: Per Amore Del Vino!\n.\nAn unforgettable evening of fine Italian wines & exquisite food in the heart of Downtown Kemptville.\n.\n Tuesday\, October 7th | 5:30–8:30 PM\n.\nIndulge in a curated 5-course blind tasting menu perfectly paired with high-end Italian wines\, including:\n Barbaresco · Barolo · Brunello · Amarone · & more\n.\nLimited seating available\n$180 + HST & gratuity per person\n.\nReserve now:\n events@zamore.ca\n (613) 215-0582\n 8 Asa Street\, Kemptville\n.\n An evening made for true wine lovers.
URL:https://downtownkemptville.com/event/an-evening-of-high-end-wine-food/
LOCATION:Zamoré\, 8 Asa Street\, Kemptville\, ON\, K0G 1J0\, Canada
CATEGORIES:Community Event
ORGANIZER;CN="Zamor%C3%A9":MAILTO:events@zamore.ca
END:VEVENT
BEGIN:VEVENT
DTSTART;TZID=America/Toronto:20251019T100000
DTEND;TZID=America/Toronto:20251019T150000
DTSTAMP:20260422T093042
CREATED:20251010T170109Z
LAST-MODIFIED:20251010T170109Z
UID:1468-1760868000-1760886000@downtownkemptville.com
SUMMARY:1st Annual Kemptville Legion Artisan Market
DESCRIPTION:Don’t miss the 1st Annual Kemptville Legion Artisan Market\nSupport local makers\, find unique gifts\, and enjoy a great community vibe.
URL:https://downtownkemptville.com/event/1st-annual-kemptville-legion-artisan-market/
LOCATION:Royal Canadian Legion\, Branch 212 Kemptville\, 100 Reuben Crescent\, Kemptville\, Ontario\, K0G 1J0\, Canada
CATEGORIES:Community Event
END:VEVENT
END:VCALENDAR